BEGIN:VCALENDAR
VERSION:2.0
PRODID:-//Adirondack Experience - ECPv6.15.18//NONSGML v1.0//EN
CALSCALE:GREGORIAN
METHOD:PUBLISH
X-ORIGINAL-URL:https://www.theadkx.org
X-WR-CALDESC:Events for Adirondack Experience
REFRESH-INTERVAL;VALUE=DURATION:PT1H
X-Robots-Tag:noindex
X-PUBLISHED-TTL:PT1H
BEGIN:VTIMEZONE
TZID:America/New_York
BEGIN:DAYLIGHT
TZOFFSETFROM:-0500
TZOFFSETTO:-0400
TZNAME:EDT
DTSTART:20250309T070000
END:DAYLIGHT
BEGIN:STANDARD
TZOFFSETFROM:-0400
TZOFFSETTO:-0500
TZNAME:EST
DTSTART:20251102T060000
END:STANDARD
BEGIN:DAYLIGHT
TZOFFSETFROM:-0500
TZOFFSETTO:-0400
TZNAME:EDT
DTSTART:20260308T070000
END:DAYLIGHT
BEGIN:STANDARD
TZOFFSETFROM:-0400
TZOFFSETTO:-0500
TZNAME:EST
DTSTART:20261101T060000
END:STANDARD
BEGIN:DAYLIGHT
TZOFFSETFROM:-0500
TZOFFSETTO:-0400
TZNAME:EDT
DTSTART:20270314T070000
END:DAYLIGHT
BEGIN:STANDARD
TZOFFSETFROM:-0400
TZOFFSETTO:-0500
TZNAME:EST
DTSTART:20271107T060000
END:STANDARD
END:VTIMEZONE
BEGIN:VEVENT
DTSTART;TZID=America/New_York:20260702T133000
DTEND;TZID=America/New_York:20260702T153000
DTSTAMP:20260421T115213
CREATED:20260420T134806Z
LAST-MODIFIED:20260421T133346Z
UID:19195-1782999000-1783006200@www.theadkx.org
SUMMARY:Wellness Walk with Chantelle Kite
DESCRIPTION:More details to come! 
URL:https://www.theadkx.org/event/wellness-walk-with-chantelle-kite/
CATEGORIES:On the Trail with ADKX
ATTACH;FMTTYPE=image/png:https://www.theadkx.org/wp-content/uploads/2026/04/OTT-GENERAL-WEB-FEATURED.png
END:VEVENT
BEGIN:VEVENT
DTSTART;TZID=America/New_York:20260708T140000
DTEND;TZID=America/New_York:20260708T150000
DTSTAMP:20260421T115213
CREATED:20260402T200513Z
LAST-MODIFIED:20260402T200617Z
UID:18853-1783519200-1783522800@www.theadkx.org
SUMMARY:An Afternoon with a Gibson Girl
DESCRIPTION:Spend the afternoon with the story of Adirondack poet Jeanne Robert Foster in a 45-minute one-woman show illuminating her life and work.\nA model for Charles Dana Gibson’s celebrated “Gibson Girls\,” Foster’s story reaches far beyond the photographs that defined a generation’s ideal of beauty–from humble beginnings in the Adirondacks to the literary salons of Paris and beyond. \nThis performance is included with museum admission and will take place at the Marion River Carry Pavilion. Seating for 40 guests will be available on a first‑come\, first‑served basis\, with standing room available as well. Punch will be served. Bring your finest parasol and enjoy an afternoon discovering the story of this remarkable Adirondack woman. \n  \n\n \n 
URL:https://www.theadkx.org/event/an-afternoon-with-a-gibson-girl/
CATEGORIES:Event
ATTACH;FMTTYPE=image/png:https://www.theadkx.org/wp-content/uploads/2026/04/GIBSON-GIRL-WEB-FEATURED.png
END:VEVENT
BEGIN:VEVENT
DTSTART;TZID=America/New_York:20260709T133000
DTEND;TZID=America/New_York:20260709T153000
DTSTAMP:20260421T115213
CREATED:20260414T150057Z
LAST-MODIFIED:20260414T150057Z
UID:19184-1783603800-1783611000@www.theadkx.org
SUMMARY:Pack Forest with Allison Brusa
DESCRIPTION:Pack Forest in Warrensburg\, NY\, is a sprawling 2\,500-acre environmental landmark used by SUNY ESF for forestry research and hands-on ecological education. \nThis program will begin by exploring the complexity and ecology of mature and old-growth forests\, including a visit to the well-known white pine\, the Grandmother Tree. Continue then with an examination of climate-adaptive forest management in action\, including a hemlock demonstration area that highlights how researchers and foresters are working together to sustain resilient forests in a changing climate. \nAllison Brusa is a forester with SUNY ESF in the Adirondacks. Education is central to her work\, and she is passionate about making forest science accessible and experiential. Drawing on a background in ecology and research\, she helps connect ecological processes and active management decisions\, inviting people to see the forest through the lenses of both a naturalist and a forester.
URL:https://www.theadkx.org/event/pack-forest-with-allison-brusa/
CATEGORIES:On the Trail with ADKX
ATTACH;FMTTYPE=image/png:https://www.theadkx.org/wp-content/uploads/2026/04/OTT-GENERAL-WEB-FEATURED.png
END:VEVENT
BEGIN:VEVENT
DTSTART;TZID=America/New_York:20260711T090000
DTEND;TZID=America/New_York:20260711T170000
DTSTAMP:20260421T115213
CREATED:20260406T201107Z
LAST-MODIFIED:20260409T192732Z
UID:18996-1783760400-1783789200@www.theadkx.org
SUMMARY:Adirondack Pack Basket Making with Barbara Green
DESCRIPTION:Join Barbara Green of Adirondack Green House Basketry for an Adirondack Pack Basket making workshop.\nParticipants will weave a full-sized Pack Basket\, approximately 18” tall. They will make their packs in the same manner as original packs were made using reed rather than black or brown ash. The top of the basket is finished with a riveted handle before applying the rim. \nSolid wood skids and an interior wooden base hold the harness in place. There will be a selection of harness colors to choose from. \nThe basket and wooden components are to be stained at home. When dried\, the harness\, skids and base are applied. Barbara will show how to do this at the workshop. Stain instructions are included in the handout. \n\n→All materials (except stain) and tools will be provided.\n→Participants are welcome to bring food\, drinks\, and snacks for the day.\n→Museum admission is included in the workshop fee. (Please note that basket completion takes about 8 hours.)\n→Comfortable shoes are recommended.\n\nSpots are limited\, and this workshop often sells out. Early registration is recommended. \n  \nBarbara Green: I discovered basket weaving as a hobby in 2007. While never very crafty\, this called to me. I found something that brings me peace\, yet challenges me regularly. Weaving allows me to be creative while creating something that is functional. Having spent most of my life in the Adirondacks\, I find it important to know the history of the iconic Adirondack Pack Basket\, and I find great joy in teaching others how to make their own. My baskets are made with reed rather than black or brown ash like the original pack baskets. Reed is highly renewable and durable. I learned on very basic tools and teach the same way. All necessary tools and materials are always included in my workshops. My harnesses are made by me\, and the bases and skids are made from scrap lumber by my husband.
URL:https://www.theadkx.org/event/adirondack-pack-basket-making-with-barbara-green/
CATEGORIES:Workshop
ATTACH;FMTTYPE=image/png:https://www.theadkx.org/wp-content/uploads/2026/04/PACKBASKET-2-WEB-FEATURED.png
END:VEVENT
BEGIN:VEVENT
DTSTART;TZID=America/New_York:20260712T100000
DTEND;TZID=America/New_York:20260712T123000
DTSTAMP:20260421T115213
CREATED:20260406T202934Z
LAST-MODIFIED:20260407T195123Z
UID:19002-1783850400-1783859400@www.theadkx.org
SUMMARY:Triangle Lantern Making with Carol Marie Vossler
DESCRIPTION:Carol Marie Vossler\, an artist and papermaker\, will lead you through making a triangle lantern out of handmade paper and stencils.\nYou’ll be cutting and folding as part of the process. Using stencils\, you can cut shapes with either an Xacto knife or a pin tool\, each offering unique effects\, before assembling your lantern. The session also offers a brief look at the historical and contemporary importance of lanterns. \nAll materials (except light) and tools will be provided. \n\n→Participants are welcome to bring drinks and snacks for the day.\n→Museum admission is not included but can be added to the workshop fee at a reduced rate.\n→Comfortable shoes are recommended.\n\nWorkshop is for participants 12 years old and older. Participants 17 and younger must be accompanied by an adult. Save by registering for two! \nCarol will also be demonstrating and selling her works at ADKX July 10-12. \n  \nCarol Marie Vossler works across disciplines\, crafting both two- and three-dimensional pieces from handmade paper\, ceramics\, and found materials. Her work incorporates imagery and objects to bring attention to environmental concerns and inspire proactive responses. Her experience as a forester taught her to observe both the large-scale and subtle details of forests and to act in ways that support their well-being. This ongoing relationship between the living forest and her artistic creativity has shaped her practice for many years. Carol’s art offers a unique perspective\, encouraging curiosity and thoughtful questions.
URL:https://www.theadkx.org/event/triangle-lantern-making-with-carol-marie-vossler/
CATEGORIES:Workshop
ATTACH;FMTTYPE=image/png:https://www.theadkx.org/wp-content/uploads/2026/04/LANTERN-WEB-FEATURED.png
END:VEVENT
BEGIN:VEVENT
DTSTART;TZID=America/New_York:20260713T130000
DTEND;TZID=America/New_York:20260713T200000
DTSTAMP:20260421T115213
CREATED:20260409T175413Z
LAST-MODIFIED:20260409T202247Z
UID:19116-1783947600-1783972800@www.theadkx.org
SUMMARY:Adventures with Adirondack Guides
DESCRIPTION:From Alvah Dunning to Julia Adella Burton Preston to the almost 7000 currently licensed guides in New York State\, the Adirondack Guide is a person of legend within the region.\nExplore the legendary world of the Adirondack Guide through three distinct programs—an afternoon outing\, a catered picnic dinner\, and an evening panel—with the flexibility to attend any or all by registering for each session individually. \nOutings\nDuring the afternoon\, take your own guided adventure with a walk down ADKX’s Minnow Pond Trail\, a hike up nearby Castle Rock\, or a paddle on Blue Mountain Lake. \nPre-registration required. Click below for more details and to register: \n\n\n\n\nPicnic Buffet Dinner\nJoin us for a catered picnic buffet dinner under the Marion River Carry Pavilion before the evening program “Adventures with Adirondack Guides”. And it’s a perfect way to fill up after an afternoon hike or paddle! (Tickets required) Menu includes: \n\n→BBQ Chicken\n→Pulled Pork\n→Macaroni & Cheese\n→Cole Slaw\n→Cornbread Casserole\n→Rolls\n→Assorted Cookies\n\nPre-registration required (Non-alcoholic beverages included in ticket. Beer and wine will be available for purchase.) \n\n\nPanel Discussion\nEnjoy an evening of tall tales\, true stories\, and romantic history through a moderated conversation with three remarkable Adirondack Guides. Throughout this moderated discussion\, you’ll hear about what it take to become an Adirondack guide\, their history and traditions\, the training required\, and favorite exploits and adventures. \nThe panel discussion is free for all (donations welcome).
URL:https://www.theadkx.org/event/adventures-with-adirondack-guides/
CATEGORIES:Evenings at the Museum
ATTACH;FMTTYPE=image/png:https://www.theadkx.org/wp-content/uploads/2026/04/GUIDES-WEB-FEATURED.png
END:VEVENT
BEGIN:VEVENT
DTSTART;TZID=America/New_York:20260716T133000
DTEND;TZID=America/New_York:20260716T153000
DTSTAMP:20260421T115213
CREATED:20260420T135323Z
LAST-MODIFIED:20260420T135323Z
UID:19198-1784208600-1784215800@www.theadkx.org
SUMMARY:Newcomb AIC with Ed Kanze
DESCRIPTION:We’ll walk a couple of miles along beautiful trails and among fine old trees\, including eastern hemlocks\, red spruce\, northern white-cedar\, sugar maples\, and yellow birch. The beautiful woods here will give us a chance to work on tree identification and give us a chance to look for forest birds and amphibians. Rich Lake and associated streams will offer further beauty and interest. The Newcomb Adirondack Interpretive Center is run by SUNY-ESF and hosts a variety of excellent programs year-round. \n  \nEd Kanze is a naturalist\, author\, and Adirondack Guide with more than forty years’ experience leading walks in wild places. A former National Park Ranger\, he worked at Acadia National Park and Gulf Islands National Seashore\, served as Curator of the Trailside Nature Museum in Cross River\, New York\, taught field ecology for the National Audubon Society\, and was senior naturalist at the Teatown Lake Reservation in Ossining\, New York. Ed has deep roots in the Adirondacks. His great-great-great-great grandparents Daniel and Hannah Brownell carved a farm out of the woods along the Sacandaga River\, ca. 1795. \nEd is the author of many books as well as a longtime nature newspaper columnist\, magazine columnist\, photographer\, lecturer\, and videographer. A graduate of Middlebury College\, Vermont\, Ed is well- traveled in his 6-million-acre Adirondack Mountain backyard and has led international trips to Australia\, New Zealand\, and Alaska.
URL:https://www.theadkx.org/event/newcomb-aic-with-ed-kanze-2/
CATEGORIES:On the Trail with ADKX
ATTACH;FMTTYPE=image/png:https://www.theadkx.org/wp-content/uploads/2026/04/ED-OTT.png
END:VEVENT
BEGIN:VEVENT
DTSTART;TZID=America/New_York:20260719T090000
DTEND;TZID=America/New_York:20260719T170000
DTSTAMP:20260421T115213
CREATED:20260407T191217Z
LAST-MODIFIED:20260407T195038Z
UID:19037-1784451600-1784480400@www.theadkx.org
SUMMARY:The Nature of Glass with Neile Cooper
DESCRIPTION:Working with artist Neile Cooper\, create a stained glass assemblage. Using found and natural materials\, along with stained glass\, participants will create a unique artwork\, celebrating the nature of the Adirondacks.\nStudents are encouraged to bring meaningful materials; together we will plan a composition and design the stained glass elements. We will construct the work using traditional stained glass techniques of cutting and shaping glass\, applying copper foil\, soldering and finishing.  \nAll materials and tools will be provided. \n\n→Participants are welcome to bring drinks and snacks for the day.\n→Museum admission is included in the workshop fee.\n→Comfortable shoes are recommended.\n→Workshop is for participants 14 years old and older.\n\nNo experience is necessary\, but experience level will dictate the complexity of the piece you’ll create.  \nNeile will also be demonstrating and selling her works at ADKX August 17 and 18.
URL:https://www.theadkx.org/event/the-nature-of-glass-with-neile-cooper/
CATEGORIES:Workshop
ATTACH;FMTTYPE=image/png:https://www.theadkx.org/wp-content/uploads/2026/04/STAINED-GLASS-WEB-FEATURED.png
END:VEVENT
BEGIN:VEVENT
DTSTART;TZID=America/New_York:20260721T080000
DTEND;TZID=America/New_York:20260721T130000
DTSTAMP:20260421T115213
CREATED:20260406T173222Z
LAST-MODIFIED:20260408T141341Z
UID:18950-1784620800-1784638800@www.theadkx.org
SUMMARY:MEMBERS-ONLY: Beyond the Buoys Outing and Lunch
DESCRIPTION:You’ve no doubt heard about the fabulous ADKX Boathouse on Minnow Pond\, but have you ever wondered what’s outside the normal boating boundaries?\nThis is your chance to find out! Take a short (3/4 mile) morning hike to the lake with Shane Holmes\, licensed Adirondack guide\, and Doreen Alessi-Holmes\, ADKX Conservator. Learn about the history of the trail and about some of the flora and fauna that can be seen on the hike. Then\, prepare for an extended outing on the water in our historic vessels. Paddle and row across the pond with Shane and Doreen and learn what lives beneath the surface. After you return to the ADKX campus\, enjoy a special lunch under the shade of the Marion River Carry Pavilion.
URL:https://www.theadkx.org/event/members-only-beyond-the-buoys-outing-and-lunch/2026-07-21/
CATEGORIES:For Members
ATTACH;FMTTYPE=image/png:https://www.theadkx.org/wp-content/uploads/2026/04/BEYOND-WEB-FEATURED.png
END:VEVENT
BEGIN:VEVENT
DTSTART;TZID=America/New_York:20260723T133000
DTEND;TZID=America/New_York:20260723T153000
DTSTAMP:20260421T115213
CREATED:20260420T140103Z
LAST-MODIFIED:20260420T140103Z
UID:19203-1784813400-1784820600@www.theadkx.org
SUMMARY:Minnow Pond Trail with Eliza Phillips
DESCRIPTION:This easy to moderate 3/4 mile trail is located right on ADKX property. Meander down to the ADKX boathouse\, located on Minnow Pond\, while taking in the scenery and learning more about trees’ relationship with the understory on this family friendly walk. \n  \nEliza Phillips has worked as an environmental educator and naturalist since 2018. She has a bachelor’s degree in Environmental Education and Interpretation from SUNY ESF and has worked in the Adirondacks\, Central NY\, and East TN. Although she enjoys working with people of all ages\, kids are her favorite\, they keep her on her toes. In her free time she loves to paddle\, paint\, and hug trees. She can often be found on the trail looking for small things like salamanders and mushrooms.
URL:https://www.theadkx.org/event/newcomb-aic-with-ed-kanze-2-2/
CATEGORIES:On the Trail with ADKX
ATTACH;FMTTYPE=image/png:https://www.theadkx.org/wp-content/uploads/2026/04/OTT-Kids-Fatured.png
END:VEVENT
BEGIN:VEVENT
DTSTART;TZID=America/New_York:20260725T170000
DTEND;TZID=America/New_York:20260725T210000
DTSTAMP:20260421T115213
CREATED:20260226T195906Z
LAST-MODIFIED:20260319T153125Z
UID:18439-1784998800-1785013200@www.theadkx.org
SUMMARY:Benefit Gala & Harold K. Hochschild Award
DESCRIPTION:Join us under the stars at the Adirondack Experience for our premier annual fundraiser. This year\, we are proud to honor Dick Beamish and the Adirondack Explorer magazine with the Harold K. Hochschild Award. \nFrom Dick’s early advocacy at the Adirondack Park Agency to his founding of the Explorer in 1998\, their legacy of independent journalism and environmental stewardship has shaped the region for decades. We invite you to celebrate their extraordinary impact and support the museum’s mission during an unforgettable evening in the heart of the Adirondacks. \nTo purchase tickets to this event or make a contribution in honor of Dick Beamish and the Adirondack Explorer Magazine click “Get Tickets”
URL:https://www.theadkx.org/event/benefit-gala-harold-k-hochschild-award/
CATEGORIES:Fundraiser
ATTACH;FMTTYPE=image/png:https://www.theadkx.org/wp-content/uploads/2026/02/GALA-featured-image.png
END:VEVENT
BEGIN:VEVENT
DTSTART;TZID=America/New_York:20260726T100000
DTEND;TZID=America/New_York:20260726T140000
DTSTAMP:20260421T115213
CREATED:20260407T194115Z
LAST-MODIFIED:20260407T194620Z
UID:19048-1785060000-1785074400@www.theadkx.org
SUMMARY:Intro to Expressive Landscape Painting with Holly Friesen
DESCRIPTION:Paint the feeling of the landscape\, not just the view. Join artist Holly Friesen for an inspiring 4-hour introduction to expressive landscape painting.\nParticipants will explore color-mixing\, intuitive mark-making\, and emotional interpretation of place\, moving beyond realism into personal visual expression. Individual guidance tailored to each student’s goals. Ideal for beginners and those wanting to loosen their style. Students will complete one expressive landscape painting and gain skills for continued exploration. \nParticipants are welcome to bring their own paints\, brushes\, and canvas. Alternatively\, you may select the ‘+materials’ option at checkout to have these supplies provided for you. \n\n→Participants are welcome to bring drinks and snacks for the day.\n→Museum admission is included in the workshop fee.\n→Comfortable shoes are recommended.\n\nHolly Friesen creates visions from within the landscape in paint and wool. Based in Tiohtià:ke / Montréal\, near the Canadian Shield and Boreal Forest\, her work reflects a deep reverence for the Earth and invites a shift from harm toward a more reciprocal\, life-enhancing way of living. Her work is in the permanent collection of the Adirondack Experience and currently on view in the Artists & Inspiration in the Wild exhibition. \nHolly will also be demonstrating and selling her works at ADKX on July 24 & 25.
URL:https://www.theadkx.org/event/intro-to-expressive-landscape-painting-with-holly-friesen/
CATEGORIES:Workshop
ATTACH;FMTTYPE=image/png:https://www.theadkx.org/wp-content/uploads/2026/04/LANDSCAPE-PAINTING-WEB-FEATURED.png
END:VEVENT
BEGIN:VEVENT
DTSTART;TZID=America/New_York:20260726T100000
DTEND;TZID=America/New_York:20260801T170000
DTSTAMP:20260421T115213
CREATED:20260406T174427Z
LAST-MODIFIED:20260407T184652Z
UID:18958-1785060000-1785603600@www.theadkx.org
SUMMARY:Member Appreciation Week
DESCRIPTION:To thank you for your membership support\, we are hosting a weeklong celebration of members.\nVisit each day and check in at the member’s desk for a special member-only perk. All week there will be a special discount for members at the ADKX Store. Enter each day for a chance to win a raffle basket of ADKX swag. \n\nWEDNESDAY\, JULY 29\nExclusive members-only Collection Storage and Study Center tours!\nClick here for more information
URL:https://www.theadkx.org/event/member-appreciation-week-2/
CATEGORIES:For Members
ATTACH;FMTTYPE=image/png:https://www.theadkx.org/wp-content/uploads/2026/04/MEMBER-WEEK-WEB-FEATURED.png
END:VEVENT
BEGIN:VEVENT
DTSTART;TZID=America/New_York:20260728T140000
DTEND;TZID=America/New_York:20260728T150000
DTSTAMP:20260421T115213
CREATED:20260403T150827Z
LAST-MODIFIED:20260403T151159Z
UID:18862-1785247200-1785250800@www.theadkx.org
SUMMARY:Tea with a Side of History
DESCRIPTION:Gem Radio Theatre is pleased to present stories of famous and infamous characters that harken from the Adirondacks.\nActors in period costume will share their stories in first-person while visitors enjoy an afternoon tea\, complete with vintage teacups and a light lunch.  An interesting and entertaining afternoon awaits at the ADKX.   \nTickets & Registration\nThe performance is included with museum admission. For those wishing to participate in the Afternoon Tea\, separate tickets are required. \n\nMembers: $15\nNon-Members: $20\n\nPlease Note: Tea registration is for the culinary experience only and does not include general museum admission. Admission must be purchased separately. \nPre-registration is recommended\, but not required.
URL:https://www.theadkx.org/event/tea-with-a-side-of-history/
CATEGORIES:Event
ATTACH;FMTTYPE=image/png:https://www.theadkx.org/wp-content/uploads/2026/04/HISTORY-TEA-WEB-FEATURED.png
END:VEVENT
BEGIN:VEVENT
DTSTART;TZID=America/New_York:20260729T110000
DTEND;TZID=America/New_York:20260729T130000
DTSTAMP:20260421T115213
CREATED:20260407T184502Z
LAST-MODIFIED:20260407T184502Z
UID:19030-1785322800-1785330000@www.theadkx.org
SUMMARY:MEMBERS-ONLY: Collection Storage and Study Center Tours
DESCRIPTION:As part of Member Appreciation Week\, members can take advantage of exclusive tours of our Collection Storage and Study Center!\nEver wonder where all of the items not on display in exhibitions are tucked away? Join us for one of two tours of the nearby Collection Storage and Study Center–led by curatorial staff. During this tour\, you will see an impressive array of the museum’s largest collection items like historic boats. Or\, catch a glimpse of some nostalgic items from former Adirondack theme parks. \nONLINE PRE-REGISTRATION IS REQUIRED!
URL:https://www.theadkx.org/event/members-only-collection-storage-and-study-center-tours/
CATEGORIES:For Members
ATTACH;FMTTYPE=image/png:https://www.theadkx.org/wp-content/uploads/2026/04/CSSC-WEB-FEATURED.png
END:VEVENT
BEGIN:VEVENT
DTSTART;TZID=America/New_York:20260730T133000
DTEND;TZID=America/New_York:20260730T153000
DTSTAMP:20260421T115213
CREATED:20260420T141515Z
LAST-MODIFIED:20260420T141600Z
UID:19209-1785418200-1785425400@www.theadkx.org
SUMMARY:Northville-Placid Trail with Eliza Phillips
DESCRIPTION:Join Eliza for a family-friendly hike along a section of the Northville-Placid Trail in Long Lake. Forests are like a city made up of different neighborhoods. The canopy\, understory\, leaf litter and more with trees at the heart. In each neighborhood different plants and animals thrive. Join us for a walk where we explore these neighborhoods and how they support each other. \nEliza Phillips has worked as an environmental educator and naturalist since 2018. She has a bachelor’s degree in Environmental Education and Interpretation from SUNY ESF and has worked in the Adirondacks\, Central NY\, and East TN. Although she enjoys working with people of all ages\, kids are her favorite\, they keep her on her toes. In her free time she loves to paddle\, paint\, and hug trees. She can often be found on the trail looking for small things like salamanders and mushrooms.
URL:https://www.theadkx.org/event/northville-placid-trail-with-eliza-phillips/
CATEGORIES:On the Trail with ADKX
ATTACH;FMTTYPE=image/png:https://www.theadkx.org/wp-content/uploads/2026/04/OTT-Kids-Fatured.png
END:VEVENT
BEGIN:VEVENT
DTSTART;TZID=America/New_York:20260730T180000
DTEND;TZID=America/New_York:20260730T210000
DTSTAMP:20260421T115213
CREATED:20260402T185614Z
LAST-MODIFIED:20260403T141530Z
UID:18827-1785434400-1785445200@www.theadkx.org
SUMMARY:Bootleggers' Bash
DESCRIPTION:Step into an open-air Adirondack speakeasy at the Bootleggers’ Bash\, a roaring 20s summer party at the Adirondack Experience. \nEnjoy lively jazz by Crackin’ Foxy\, local spirits\, and delicious bites while celebrating the colorful history of Adirondack bootlegging. Don your finest flapper dress or sharpest suspenders–or simply come ready to raise a glass and join the revelry.  \nThis event is 18 & over ONLY. \nWhat your ticket includes:\n\nA keepsake tasting glass to enjoy throughout the evening and bring home\nUnlimited 2 oz. samples of local brews\, spirits\, and wine\nLive jazz concert by Crackin’ Foxy\nLight appetizers to complement your beverages\nThe chance to dress the part and join in our Bootleggers’ Bash costume contest (winners get a prize!)\n\nPlease note: Dinner is not included with your ticket. A food truck will be onsite with dinner available for purchase. Vendors will have full pours of beer\, wine\, and spirits available for purchase as well. \nWith music from: Crackin’ Foxy\nCrackin’ Foxy is a ukulele-driven ensemble built on close vocal harmony and finely tuned arrangements\, evoking the sound and sophistication of the Jazz Age. The Saranac Lake–based quintet draws inspiration from the Boswell Sisters\, Annette Hanshaw\, and Django Reinhardt\, blending elements of Traditional New Orleans jazz with the elegance of Vaudeville and early 20th-century popular music. \nFounded in 2010 by Mark Hofschneider\, the group brings together Russ Mulvey on bass\, along with Bobby Davis and Alex Marklund\, to craft warm\, rhythmic accompaniment beneath lively swing tempos. Their instrumental precision provides the perfect foundation for the expressive vocal harmonies of Sarah Curtis and Redia Spada. \nADK Heart Food Truck: \nADK Heart is a mobile kitchen serving up handcrafted cuisine inspired by the region and rooted in family traditions. From creative comfort food to seasonal specialties\, ADK Heart brings people together through flavorful\, thoughtfully prepared dishes. \nVendor List (as of 4/1/26):\n\nLedge Rock Hill Winery\nHex & Hop\nMurray’s Fools Distilling Co.\nNew Scotland Spirits\nMore to come!
URL:https://www.theadkx.org/event/bootleggers-bash/
ATTACH;FMTTYPE=image/png:https://www.theadkx.org/wp-content/uploads/2026/04/BOOTLEGGERS-WEB-FEATURED.png
END:VEVENT
END:VCALENDAR